BEGIN:VCALENDAR
VERSION:2.0
PRODID:-//Grassroots Central Mass - ECPv6.15.20//NONSGML v1.0//EN
CALSCALE:GREGORIAN
METHOD:PUBLISH
X-WR-CALNAME:Grassroots Central Mass
X-ORIGINAL-URL:https://grassrootscentralmass.org
X-WR-CALDESC:Events for Grassroots Central Mass
REFRESH-INTERVAL;VALUE=DURATION:PT1H
X-Robots-Tag:noindex
X-PUBLISHED-TTL:PT1H
BEGIN:VTIMEZONE
TZID:America/New_York
BEGIN:DAYLIGHT
TZOFFSETFROM:-0500
TZOFFSETTO:-0400
TZNAME:EDT
DTSTART:20230312T070000
END:DAYLIGHT
BEGIN:STANDARD
TZOFFSETFROM:-0400
TZOFFSETTO:-0500
TZNAME:EST
DTSTART:20231105T060000
END:STANDARD
BEGIN:DAYLIGHT
TZOFFSETFROM:-0500
TZOFFSETTO:-0400
TZNAME:EDT
DTSTART:20240310T070000
END:DAYLIGHT
BEGIN:STANDARD
TZOFFSETFROM:-0400
TZOFFSETTO:-0500
TZNAME:EST
DTSTART:20241103T060000
END:STANDARD
BEGIN:DAYLIGHT
TZOFFSETFROM:-0500
TZOFFSETTO:-0400
TZNAME:EDT
DTSTART:20250309T070000
END:DAYLIGHT
BEGIN:STANDARD
TZOFFSETFROM:-0400
TZOFFSETTO:-0500
TZNAME:EST
DTSTART:20251102T060000
END:STANDARD
END:VTIMEZONE
BEGIN:VEVENT
DTSTART;TZID=America/New_York:20240907T120000
DTEND;TZID=America/New_York:20240907T140000
DTSTAMP:20260420T214039
CREATED:20240824T162847Z
LAST-MODIFIED:20240824T162847Z
UID:1142-1725710400-1725717600@grassrootscentralmass.org
SUMMARY:Stand-Out for Harris-Walz
DESCRIPTION:Help make democracy visible! Feel the energy and excitement! \nJoin fellow activists on the West Brookfield Common to support the Harris-Walz presidential ticket.
URL:https://grassrootscentralmass.org/event/stand-out-for-harris-walz-2/
LOCATION:West Brookfield Common\, 12 E Main St\, West Brookfield\, MA\, 01585\, United States
END:VEVENT
BEGIN:VEVENT
DTSTART;TZID=America/New_York:20240921T093000
DTEND;TZID=America/New_York:20240921T110000
DTSTAMP:20260420T214039
CREATED:20240824T164221Z
LAST-MODIFIED:20240824T164221Z
UID:1156-1726911000-1726916400@grassrootscentralmass.org
SUMMARY:GCM Leadership Group Meeting
DESCRIPTION:Join us to plan future actions\, hear committee reports\, and discuss issues of importance to the organization. The Leadership Group meets virtually via Zoom. Please email Jeana\, justice@grassrootscentralmass.org\, to receive the Zoom link
URL:https://grassrootscentralmass.org/event/gcm-leadership-group-meeting-23/
LOCATION:Virtual via Zoom
ORGANIZER;CN="Grassoots Central Mass":MAILTO:grassrootscentralmass@gmail.com
END:VEVENT
BEGIN:VEVENT
DTSTART;TZID=America/New_York:20240921T120000
DTEND;TZID=America/New_York:20240921T140000
DTSTAMP:20260420T214039
CREATED:20240824T163114Z
LAST-MODIFIED:20240824T163114Z
UID:1144-1726920000-1726927200@grassrootscentralmass.org
SUMMARY:Stand-Out for Harris-Walz
DESCRIPTION:Help make democracy visible! Feel the energy and excitement! \nJoin fellow activists on the West Brookfield Common to support the Harris-Walz presidential ticket.
URL:https://grassrootscentralmass.org/event/stand-out-for-harris-walz-3/
LOCATION:West Brookfield Common\, 12 E Main St\, West Brookfield\, MA\, 01585\, United States
END:VEVENT
BEGIN:VEVENT
DTSTART;TZID=America/New_York:20240928T120000
DTEND;TZID=America/New_York:20240928T140000
DTSTAMP:20260420T214039
CREATED:20240824T163253Z
LAST-MODIFIED:20240824T163253Z
UID:1146-1727524800-1727532000@grassrootscentralmass.org
SUMMARY:Stand-Out for Harris-Walz
DESCRIPTION:Help make democracy visible! Feel the energy and excitement! \nJoin fellow activists on the West Brookfield Common to support the Harris-Walz presidential ticket.
URL:https://grassrootscentralmass.org/event/stand-out-for-harris-walz-4/
LOCATION:West Brookfield Common\, 12 E Main St\, West Brookfield\, MA\, 01585\, United States
END:VEVENT
END:VCALENDAR