BEGIN:VCALENDAR
VERSION:2.0
PRODID:-//Grassroots Central Mass - ECPv6.15.20//NONSGML v1.0//EN
CALSCALE:GREGORIAN
METHOD:PUBLISH
X-WR-CALNAME:Grassroots Central Mass
X-ORIGINAL-URL:https://grassrootscentralmass.org
X-WR-CALDESC:Events for Grassroots Central Mass
REFRESH-INTERVAL;VALUE=DURATION:PT1H
X-Robots-Tag:noindex
X-PUBLISHED-TTL:PT1H
BEGIN:VTIMEZONE
TZID:America/New_York
BEGIN:DAYLIGHT
TZOFFSETFROM:-0500
TZOFFSETTO:-0400
TZNAME:EDT
DTSTART:20230312T070000
END:DAYLIGHT
BEGIN:STANDARD
TZOFFSETFROM:-0400
TZOFFSETTO:-0500
TZNAME:EST
DTSTART:20231105T060000
END:STANDARD
BEGIN:DAYLIGHT
TZOFFSETFROM:-0500
TZOFFSETTO:-0400
TZNAME:EDT
DTSTART:20240310T070000
END:DAYLIGHT
BEGIN:STANDARD
TZOFFSETFROM:-0400
TZOFFSETTO:-0500
TZNAME:EST
DTSTART:20241103T060000
END:STANDARD
BEGIN:DAYLIGHT
TZOFFSETFROM:-0500
TZOFFSETTO:-0400
TZNAME:EDT
DTSTART:20250309T070000
END:DAYLIGHT
BEGIN:STANDARD
TZOFFSETFROM:-0400
TZOFFSETTO:-0500
TZNAME:EST
DTSTART:20251102T060000
END:STANDARD
END:VTIMEZONE
BEGIN:VEVENT
DTSTART;TZID=America/New_York:20240810T093000
DTEND;TZID=America/New_York:20240810T110000
DTSTAMP:20260420T231641
CREATED:20240713T171235Z
LAST-MODIFIED:20240713T171235Z
UID:1125-1723282200-1723287600@grassrootscentralmass.org
SUMMARY:GCM Leadership Group Meeting
DESCRIPTION:Join us to plan future actions\, hear committee reports\, and discuss issues of importance to the organization. The Leadership Group meets virtually via Zoom. Please email Jeana\, justice@grassrootscentralmass.org\, to receive the Zoom link.
URL:https://grassrootscentralmass.org/event/gcm-leadership-group-meeting-21/
LOCATION:Virtual via Zoom
ORGANIZER;CN="Grassoots Central Mass":MAILTO:grassrootscentralmass@gmail.com
END:VEVENT
BEGIN:VEVENT
DTSTART;TZID=America/New_York:20240817T120000
DTEND;TZID=America/New_York:20240817T140000
DTSTAMP:20260420T231641
CREATED:20240811T202649Z
LAST-MODIFIED:20240811T202649Z
UID:1130-1723896000-1723903200@grassrootscentralmass.org
SUMMARY:Stand-Out for Harris-Walz
DESCRIPTION:Help make democracy visible! Feel the energy and excitement! \nJoin fellow activists on the West Brookfield Common to support the Harris-Walz presidential ticket. \n 
URL:https://grassrootscentralmass.org/event/stand-out-for-harris-walz/
LOCATION:West Brookfield Common\, 12 E Main St\, West Brookfield\, MA\, 01585\, United States
END:VEVENT
BEGIN:VEVENT
DTSTART;TZID=America/New_York:20240824T093000
DTEND;TZID=America/New_York:20240824T110000
DTSTAMP:20260420T231641
CREATED:20240811T133936Z
LAST-MODIFIED:20240811T133936Z
UID:1128-1724491800-1724497200@grassrootscentralmass.org
SUMMARY:GCM Leadership Group Meeting
DESCRIPTION:Join us to plan future actions\, hear committee reports\, and discuss issues of importance to the organization. The Leadership Group meets virtually via Zoom. Please email Jeana\, justice@grassrootscentralmass.org\, to receive the Zoom link.
URL:https://grassrootscentralmass.org/event/gcm-leadership-group-meeting-22/
LOCATION:Virtual via Zoom
ORGANIZER;CN="Grassoots Central Mass":MAILTO:grassrootscentralmass@gmail.com
END:VEVENT
END:VCALENDAR