BEGIN:VCALENDAR
VERSION:2.0
PRODID:-//Grassroots Central Mass - ECPv6.15.20//NONSGML v1.0//EN
CALSCALE:GREGORIAN
METHOD:PUBLISH
X-WR-CALNAME:Grassroots Central Mass
X-ORIGINAL-URL:https://grassrootscentralmass.org
X-WR-CALDESC:Events for Grassroots Central Mass
REFRESH-INTERVAL;VALUE=DURATION:PT1H
X-Robots-Tag:noindex
X-PUBLISHED-TTL:PT1H
BEGIN:VTIMEZONE
TZID:America/New_York
BEGIN:DAYLIGHT
TZOFFSETFROM:-0500
TZOFFSETTO:-0400
TZNAME:EDT
DTSTART:20230312T070000
END:DAYLIGHT
BEGIN:STANDARD
TZOFFSETFROM:-0400
TZOFFSETTO:-0500
TZNAME:EST
DTSTART:20231105T060000
END:STANDARD
BEGIN:DAYLIGHT
TZOFFSETFROM:-0500
TZOFFSETTO:-0400
TZNAME:EDT
DTSTART:20240310T070000
END:DAYLIGHT
BEGIN:STANDARD
TZOFFSETFROM:-0400
TZOFFSETTO:-0500
TZNAME:EST
DTSTART:20241103T060000
END:STANDARD
BEGIN:DAYLIGHT
TZOFFSETFROM:-0500
TZOFFSETTO:-0400
TZNAME:EDT
DTSTART:20250309T070000
END:DAYLIGHT
BEGIN:STANDARD
TZOFFSETFROM:-0400
TZOFFSETTO:-0500
TZNAME:EST
DTSTART:20251102T060000
END:STANDARD
END:VTIMEZONE
BEGIN:VEVENT
DTSTART;TZID=America/New_York:20240302T093000
DTEND;TZID=America/New_York:20240302T110000
DTSTAMP:20260423T101209
CREATED:20240210T225916Z
LAST-MODIFIED:20240210T225916Z
UID:1078-1709371800-1709377200@grassrootscentralmass.org
SUMMARY:GCM Leadership Group Meeting
DESCRIPTION:Join us to plan future actions\, hear committee reports\, and discuss issues of importance to the organization. The Leadership Group meets virtually via Zoom. Please email Jeana\, justice@grassrootscentralmass.org\, to receive the Zoom link.
URL:https://grassrootscentralmass.org/event/gcm-leadership-group-meeting-16/
LOCATION:Virtual via Zoom
ORGANIZER;CN="Grassoots Central Mass":MAILTO:grassrootscentralmass@gmail.com
END:VEVENT
BEGIN:VEVENT
DTSTART;TZID=America/New_York:20240303T103000
DTEND;TZID=America/New_York:20240303T113000
DTSTAMP:20260423T101209
CREATED:20240302T224817Z
LAST-MODIFIED:20240302T224817Z
UID:1093-1709461800-1709465400@grassrootscentralmass.org
SUMMARY:Racial and Social Justice Committee Meeting
DESCRIPTION:Join local activists to engage in advocacy work especially related to immigration\, re-imagining policing\, and health care disparities. This committee meets virtually; email justice@grassrootscentralmass.org to request the Zoom link
URL:https://grassrootscentralmass.org/event/racial-and-social-justice-committee-meeting-5/
LOCATION:Virtual via Zoom
ORGANIZER;CN="Grassoots Central Mass":MAILTO:grassrootscentralmass@gmail.com
END:VEVENT
BEGIN:VEVENT
DTSTART;TZID=America/New_York:20240323T093000
DTEND;TZID=America/New_York:20240323T110000
DTSTAMP:20260423T101209
CREATED:20240302T224022Z
LAST-MODIFIED:20240302T224022Z
UID:1088-1711186200-1711191600@grassrootscentralmass.org
SUMMARY:GCM Leadership Group Meeting
DESCRIPTION:Join us to plan future actions\, hear committee reports\, and discuss issues of importance to the organization. The Leadership Group meets virtually via Zoom. Please email Jeana\, justice@grassrootscentralmass.org\, to receive the Zoom link.
URL:https://grassrootscentralmass.org/event/gcm-leadership-group-meeting-17/
LOCATION:Virtual via Zoom
ORGANIZER;CN="Grassoots Central Mass":MAILTO:grassrootscentralmass@gmail.com
END:VEVENT
END:VCALENDAR